BEGIN:VCALENDAR
VERSION:2.0
PRODID:-//Eventin//Event Calendar//EN
CALSCALE:GREGORIAN
METHOD:PUBLISH
BEGIN:VEVENT
UID:e7c6f6ab8dfef02711157b35fb22d757@theriverclt.com
SUMMARY:Family & Friends Day
DESCRIPTION:You’re invited to one of the most exciting and welcoming days
  of the year at The River Charlotte—Family & Friends Day. This is the per
 fect opportunity to gather your loved ones and experience a vibrant atmosph
 ere of worship\, connection\, and celebration. The day begins with a powerf
 ul worship service\, followed by a fun-filled cookout at the park where lau
 ghter\, fellowship\, and community take center stage. Whether it’s your f
 irst time visiting or you call The River home\, this day is designed for ev
 eryone to feel connected and included. Join us on Sunday\, May 31\, 2026\, 
 and bring your people—we’ll bring the atmosphere.
LOCATION:The River Charlotte\, 7429 Tuckaseegee Rd\, Charlotte\, NC 28214
DTSTAMP:20260421T135549Z
DTSTART:20260531T130000Z
DTEND:20260531T220000Z
END:VEVENT
END:VCALENDAR
