BEGIN:VCALENDAR
VERSION:2.0
PRODID:-//Eventin//Event Calendar//EN
CALSCALE:GREGORIAN
METHOD:PUBLISH
BEGIN:VEVENT
UID:104384fae9d7d243b90ed8baf446707d@theriverclt.com
SUMMARY:Graduate Celebration Sunday
DESCRIPTION:Join us as we celebrate the incredible achievements of our grad
 uates at The River Charlotte. Graduate Celebration Sunday is a special time
  to honor students who have reached significant milestones and to pray over
  their next season. Whether graduating from high school\, college\, or beyo
 nd\, we recognize their hard work\, dedication\, and future potential. Be p
 art of this exciting and encouraging service on Sunday\, June 28\, 2026\, a
 s we celebrate and send our graduates forward with faith and support.
LOCATION:The River Charlotte\, 7429 Tuckaseegee Rd\, Charlotte\, NC 28214
DTSTAMP:20260421T135535Z
DTSTART:20260628T050000Z
DTEND:20260628T050000Z
END:VEVENT
END:VCALENDAR
