BEGIN:VCALENDAR
VERSION:2.0
PRODID:-//Eventin//Event Calendar//EN
CALSCALE:GREGORIAN
METHOD:PUBLISH
BEGIN:VEVENT
UID:9aefe95f8b5cb16d9c00d36533f942c8@theriverclt.com
SUMMARY:Pentecost Sunday
DESCRIPTION:Experience the power and presence of God in a fresh way this Pe
 ntecost Sunday at The River Charlotte. As we commemorate the outpouring of 
 the Holy Spirit and the birth of the Church\, we invite you to join us for 
 a dynamic worship experience filled with expectation and celebration. This 
 is a moment to reflect on God’s power at work in our lives and to come to
 gether in unity as His people. Join us on Sunday\, May 24th at 10:30 AM\, a
 nd wear red as we celebrate the fire and fullness of the Holy Spirit.
LOCATION:The River Charlotte\, 7429 Tuckaseegee Rd\, Charlotte\, NC 28214
DTSTAMP:20260421T135519Z
DTSTART:20260524T153000Z
DTEND:20260524T173000Z
END:VEVENT
END:VCALENDAR
