BEGIN:VCALENDAR
VERSION:2.0
PRODID:-//Eventin//Event Calendar//EN
CALSCALE:GREGORIAN
METHOD:PUBLISH
BEGIN:VEVENT
UID:cc4fd414f7a6684c4c4b912353bce087@theriverclt.com
SUMMARY:Mother’s Day
DESCRIPTION:Celebrate the women who have shaped our lives through their fai
 th\, prayers\, and unwavering love. This Mother’s Day\, we honor mothers 
 and mother figures who have poured into generations with strength and grace
 . Join us for a special weekend that includes a Mother’s Day Brunch on Sa
 turday\, May 9th at 11:00 AM\, followed by a powerful worship service on Su
 nday\, May 10th at 10:30 AM. This is a time to reflect\, celebrate\, and sh
 ow appreciation for the women who continue to cover their families in praye
 r and love.
LOCATION:The River Charlotte\, 7429 Tuckaseegee Rd\, Charlotte\, NC 28214
DTSTAMP:20260421T135701Z
DTSTART:20260509T160000Z
DTEND:20260510T173000Z
END:VEVENT
END:VCALENDAR
