BEGIN:VCALENDAR
VERSION:2.0
PRODID:-//Eventin//Event Calendar//EN
CALSCALE:GREGORIAN
METHOD:PUBLISH
BEGIN:VEVENT
UID:45751f56415f3cebbeaf8569e53705ee@theriverclt.com
SUMMARY:Father’s Day – Because He Stood
DESCRIPTION:This Father’s Day\, we honor the strength\, sacrifice\, and s
 piritual leadership of the men who have stood in the gap for their families
 . Join us at The River Charlotte for a powerful and meaningful service as w
 e celebrate fathers and father figures who reflect God’s heart through th
 eir love\, protection\, and faithfulness. Together\, we will be reminded of
  the impact of godly men and the legacy they leave behind. Come worship wit
 h us on Sunday\, June 21st at 10:30 AM as we celebrate and give thanks for 
 the men who continue to stand.
LOCATION:The River Charlotte\, 7429 Tuckaseegee Rd\, Charlotte\, NC 28214
DTSTAMP:20260421T135706Z
DTSTART:20260621T153000Z
DTEND:20260621T173000Z
END:VEVENT
END:VCALENDAR
