BEGIN:VCALENDAR
VERSION:2.0
PRODID:-//Eventin//Event Calendar//EN
CALSCALE:GREGORIAN
METHOD:PUBLISH
BEGIN:VEVENT
UID:e66e796efea12897657d39ff372cf092@theriverclt.com
SUMMARY:Ladies Day Out
DESCRIPTION:Join us for a fun-filled afternoon of Bowling\, Eats & Laughs!\
 nLadies Day Out gathering! Take a break from your routine and connect with
  your sisters in Christ for an afternoon of friendly competition\, deliciou
 s food\, and great fellowship.\nEvent Details:\n\nWho: All ladies of the R
 iver Charlotte Women's Ministry and their friends!\nWhat: Ladies Day Out: 
 Bowling\, Eats & Laughs\nWhen: JULY 18 from 2 PM – 4 PM\nWhere: Spare
  Time - Pineville\, NC\nCost: $40 per person\n\nRegistration and Contact:
 \nFor questions or additional details about the event\, please connect with
  us directly in the Women's Ministry group on Church Center. This is the 
 best way to get updates\, ask questions\, and make sure you're ready for th
 e day!\nWe can't wait to see you there for an afternoon of fun and connecti
 on! Mark your calendars and invite a friend!
LOCATION:Pineville\, NC 
DTSTAMP:20260421T135655Z
DTSTART:20260718T190000Z
DTEND:20260718T210000Z
END:VEVENT
END:VCALENDAR
